BEGIN:VCALENDAR
VERSION:2.0
PRODID:spatie/icalendar-generator
DESCRIPTION:Händelser från Esbo hembygdsförening
X-WR-CALDESC:Händelser från Esbo hembygdsförening
REFRESH-INTERVAL;VALUE=DURATION:PT1440M
X-PUBLISHED-TTL:PT1440M
BEGIN:VTIMEZONE
TZID:Europe/Helsinki
BEGIN:DAYLIGHT
DTSTART:20220327T030000Z
TZOFFSETFROM:+0200
TZOFFSETTO:+0300
END:DAYLIGHT
BEGIN:STANDARD
DTSTART:20221030T040000Z
TZOFFSETFROM:+0300
TZOFFSETTO:+0200
END:STANDARD
BEGIN:DAYLIGHT
DTSTART:20230326T030000Z
TZOFFSETFROM:+0200
TZOFFSETTO:+0300
END:DAYLIGHT
END:VTIMEZONE
BEGIN:VTIMEZONE
TZID:UTC
BEGIN:STANDARD
DTSTART:20250727T174720Z
TZOFFSETFROM:+0000
TZOFFSETTO:+0000
END:STANDARD
END:VTIMEZONE
BEGIN:VEVENT
UID:4-4
DTSTAMP:20260423T174720Z
SUMMARY:Temakväll om hjältegravarna i Finland
LOCATION:Lagstad hembygdsgård Gamla Lagstadsvägen 4  Esbo  02770
ORGANIZER;CN=admin:MAILTO:hakan.blomberg@outlook.com
DTSTART;TZID=Europe/Helsinki:20221103T180000
DTEND;TZID=Europe/Helsinki:20221103T200000
X-ALT-DESC;FMTTYPE=TEXT/HTML:Den amerikanske historikern Jared Diamond ber
 ömmer i sin bok \"Upheaval\" Finland för två saker! För vårt utomorde
 ntliga skolväsen och för att vi har ett \"Arlington i varje kyrkoby\"\, 
 dvs våra hjältegravar. Men hur fick vi dem? Det är en fascinerande hist
 oria från de första dagarna i vinterkriget\, där vissa aktörer\, såda
 na som generallöjtnant Harald Öhquist&amp;hellip\;
CATEGORIES:General
URL;VALUE=URI:https://ehf.lagstad.fi/mc-events/temakvall-om-hjaltegravarna-
 i-finland/
METHOD:PUBLISH
END:VEVENT
END:VCALENDAR